BEGIN:VCALENDAR
VERSION:2.0
PRODID:-//wp-events-plugin.com//7.2.3.1//EN
TZID:America/Chicago
X-WR-TIMEZONE:America/Chicago
BEGIN:VEVENT
UID:483@wautomalibrary.org
DTSTART;TZID=America/Chicago;VALUE=DATE:20260428
DTEND;TZID=America/Chicago;VALUE=DATE:20260429
DTSTAMP:20260421T173544Z
URL:https://wautomalibrary.org/events/crafternoons-paper-garden-2/
SUMMARY:Crafternoons+ | Paper Garden
DESCRIPTION:\nAll day drop in craft\n\n\n\n\n\n\n\n\n
ATTACH;FMTTYPE=image/jpeg:https://wautomalibrary.org/wp-content/uploads/20
 25/12/website-events-18.png
CATEGORIES:Arts and Crafts,Children's
END:VEVENT
BEGIN:VTIMEZONE
TZID:America/Chicago
X-LIC-LOCATION:America/Chicago
BEGIN:DAYLIGHT
DTSTART:20260308T030000
TZOFFSETFROM:-0600
TZOFFSETTO:-0500
TZNAME:CDT
END:DAYLIGHT
END:VTIMEZONE
END:VCALENDAR